BEGIN:VCALENDAR
VERSION:2.0
PRODID:-//Dan Beaulaurier - ECPv4.9.12//NONSGML v1.0//EN
CALSCALE:GREGORIAN
METHOD:PUBLISH
X-WR-CALNAME:Dan Beaulaurier
X-ORIGINAL-URL:https://danbeaulaurier.com
X-WR-CALDESC:Events for Dan Beaulaurier
BEGIN:VTIMEZONE
TZID:UTC
BEGIN:STANDARD
TZOFFSETFROM:+0000
TZOFFSETTO:+0000
TZNAME:UTC
DTSTART:20260101T000000
END:STANDARD
END:VTIMEZONE
BEGIN:VEVENT
DTSTART;TZID=UTC:20260301T140000
DTEND;TZID=UTC:20260301T170000
DTSTAMP:20260422T105948
CREATED:20260127T151826Z
LAST-MODIFIED:20260127T151826Z
UID:686-1772373600-1772384400@danbeaulaurier.com
SUMMARY:Norton Money @ The Boogaloo\, London (Gospel Brunch)
DESCRIPTION:A rockin’ afternoon at the Boogaloo! Come on down! DJ from 2pm and we’re on at 3. Free entry with a whip-round to pay the band. See you there! \n
URL:https://danbeaulaurier.com/event/norton-money-the-boogaloo-london-gospel-brunch/
LOCATION:The Boogaloo\, 312 Archway Road\, London\, N6 5AT\, United Kingdom
END:VEVENT
END:VCALENDAR