BEGIN:VCALENDAR
VERSION:2.0
PRODID:-//Dan Beaulaurier - ECPv4.9.12//NONSGML v1.0//EN
CALSCALE:GREGORIAN
METHOD:PUBLISH
X-WR-CALNAME:Dan Beaulaurier
X-ORIGINAL-URL:https://danbeaulaurier.com
X-WR-CALDESC:Events for Dan Beaulaurier
BEGIN:VTIMEZONE
TZID:UTC
BEGIN:STANDARD
TZOFFSETFROM:+0000
TZOFFSETTO:+0000
TZNAME:UTC
DTSTART:20250101T000000
END:STANDARD
END:VTIMEZONE
BEGIN:VEVENT
DTSTART;TZID=UTC:20251010T200000
DTEND;TZID=UTC:20251010T210000
DTSTAMP:20260422T172633
CREATED:20251002T042415Z
LAST-MODIFIED:20251002T042415Z
UID:675-1760126400-1760130000@danbeaulaurier.com
SUMMARY:Norton Money (Dan & Jer Duo) @ Winters Tavern\, Pacifica\, California
DESCRIPTION:Happy to play back in the Bay Area! Friday night in Pacifica\, yeah! \n
URL:https://danbeaulaurier.com/event/norton-money-dan-jer-duo-winters-tavern-pacifica-california/
LOCATION:Winters Tavern\, 1522 Francisco Blvd.\, Pacifica\, CA\, 94044$\, United States
END:VEVENT
END:VCALENDAR