BEGIN:VCALENDAR
VERSION:2.0
PRODID:-//Dan Beaulaurier - ECPv4.9.12//NONSGML v1.0//EN
CALSCALE:GREGORIAN
METHOD:PUBLISH
X-WR-CALNAME:Dan Beaulaurier
X-ORIGINAL-URL:https://danbeaulaurier.com
X-WR-CALDESC:Events for Dan Beaulaurier
BEGIN:VTIMEZONE
TZID:UTC
BEGIN:STANDARD
TZOFFSETFROM:+0000
TZOFFSETTO:+0000
TZNAME:UTC
DTSTART:20250101T000000
END:STANDARD
END:VTIMEZONE
BEGIN:VEVENT
DTSTART;TZID=UTC:20250912T200000
DTEND;TZID=UTC:20250912T220000
DTSTAMP:20260422T172648
CREATED:20250608T160120Z
LAST-MODIFIED:20250608T160120Z
UID:657-1757707200-1757714400@danbeaulaurier.com
SUMMARY:Norton Money (Anna & Dan Duo) @ "My Grass Is Blue" At The Betsey Trotwood\, London
DESCRIPTION:We’re happy to get back to playing upstairs at the Betsey for “My Grass Is Blue”! Foghorn Leghorn will play a set and we’ll hit the stage around 9. Rare duo show for us so come on down! \n
URL:https://danbeaulaurier.com/event/norton-money-anna-dan-duo-my-grass-is-blue-at-the-betsey-trotwood-london/
LOCATION:The Betsey Trotwood\, 56 Farringdon Road\, London\, EC1R 3BL\, United Kingdom
END:VEVENT
END:VCALENDAR