BEGIN:VCALENDAR
VERSION:2.0
PRODID:-//Dan Beaulaurier - ECPv4.9.12//NONSGML v1.0//EN
CALSCALE:GREGORIAN
METHOD:PUBLISH
X-WR-CALNAME:Dan Beaulaurier
X-ORIGINAL-URL:https://danbeaulaurier.com
X-WR-CALDESC:Events for Dan Beaulaurier
BEGIN:VTIMEZONE
TZID:UTC
BEGIN:STANDARD
TZOFFSETFROM:+0000
TZOFFSETTO:+0000
TZNAME:UTC
DTSTART:20250101T000000
END:STANDARD
END:VTIMEZONE
BEGIN:VEVENT
DTSTART;TZID=UTC:20250904T210000
DTEND;TZID=UTC:20250904T230000
DTSTAMP:20260422T190317
CREATED:20250608T155543Z
LAST-MODIFIED:20250608T155543Z
UID:655-1757019600-1757026800@danbeaulaurier.com
SUMMARY:"Emperor Norton's Whiskey Symposium" (Anna & Dan With Frank Cooke on Steel Guitar) @ Aces & Eights\, London
DESCRIPTION:Back from our summer break and ready to rock! 2 sets of tunes at the (at-this-point) legendary Aces & Eights! Free entry! \n
URL:https://danbeaulaurier.com/event/emperor-nortons-whiskey-symposium-anna-dan-with-frank-cooke-on-steel-guitar-aces-eights-london/
LOCATION:Aces and Eights\, 156-158 Fortess Rd\, London\, NW5 2HP
END:VEVENT
END:VCALENDAR