BEGIN:VCALENDAR
VERSION:2.0
PRODID:-//Dan Beaulaurier - ECPv4.9.12//NONSGML v1.0//EN
CALSCALE:GREGORIAN
METHOD:PUBLISH
X-WR-CALNAME:Dan Beaulaurier
X-ORIGINAL-URL:https://danbeaulaurier.com
X-WR-CALDESC:Events for Dan Beaulaurier
BEGIN:VTIMEZONE
TZID:UTC
BEGIN:STANDARD
TZOFFSETFROM:+0000
TZOFFSETTO:+0000
TZNAME:UTC
DTSTART:20260101T000000
END:STANDARD
END:VTIMEZONE
BEGIN:VEVENT
DTSTART;TZID=UTC:20260205T210000
DTEND;TZID=UTC:20260205T230000
DTSTAMP:20260422T140024
CREATED:20260127T150800Z
LAST-MODIFIED:20260127T150800Z
UID:682-1770325200-1770332400@danbeaulaurier.com
SUMMARY:"Emperor Norton's Whiskey Symposium" (Anna\, Dan & Jeremy Trio) @ Aces & Eights\, London
DESCRIPTION:Come on down for some Norton Money tunes! 2 sets of live music starting at 9pm! \n
URL:https://danbeaulaurier.com/event/emperor-nortons-whiskey-symposium-anna-dan-jeremy-trio-aces-eights-london-4/
LOCATION:Aces and Eights\, 156-158 Fortess Rd\, London\, NW5 2HP
END:VEVENT
END:VCALENDAR