BEGIN:VCALENDAR
VERSION:2.0
PRODID:-//Dan Beaulaurier - ECPv4.9.12//NONSGML v1.0//EN
CALSCALE:GREGORIAN
METHOD:PUBLISH
X-WR-CALNAME:Dan Beaulaurier
X-ORIGINAL-URL:https://danbeaulaurier.com
X-WR-CALDESC:Events for Dan Beaulaurier
BEGIN:VTIMEZONE
TZID:UTC
BEGIN:STANDARD
TZOFFSETFROM:+0000
TZOFFSETTO:+0000
TZNAME:UTC
DTSTART:20260101T000000
END:STANDARD
END:VTIMEZONE
BEGIN:VEVENT
DTSTART;TZID=UTC:20260604T210000
DTEND;TZID=UTC:20260604T230000
DTSTAMP:20260421T034814
CREATED:20260401T150612Z
LAST-MODIFIED:20260401T150612Z
UID:707-1780606800-1780614000@danbeaulaurier.com
SUMMARY:“Emperor Norton’s Whiskey Symposium” @ Aces & Eights\, London
DESCRIPTION:Monthly Aces gig! \n
URL:https://danbeaulaurier.com/event/emperor-nortons-whiskey-symposium-aces-eights-london-10/
END:VEVENT
END:VCALENDAR